BEGIN:VCALENDAR
VERSION:2.0
PRODID:-//Tukios.com/
BEGIN:VEVENT
UID:df103dfc-9130-4111-af94-85f1f30d7e0b@www.davisfuneralservicesrainbow.com
DTSTAMP:20260421T090842Z
DTSTART:20260509T200000Z
DTEND:20260509T210000Z
SUMMARY:Memorial Service
DESCRIPTION:
URL:https://www.davisfuneralservicesrainbow.com/obituaries/igor-vikic
LOCATION: 1401 S Rainbow Blvd  Las Vegas NV 89146
GEO:36.1555835;-115.2440745
END:VEVENT
END:VCALENDAR